Workbook

Sheet 提案書
W1: ←西暦で入力してください（半角）（例：2020年5月5日）
A2: 国立大学法人北海道国立大学機構 理事長 殿
A4: 共同研究提案書
L6: 企業等
L7: 住所 | M7: （〒 | O7: ｰ | R7: ） | W7: ←半角数字で入力してください
W8: ←都道府県名から記載してください
L9: 組織名
L10: 代表者 | N10: 職名
N11: 氏名
A13: 北海道国立大学機構共同研究実施規程に基づき、下記のとおり共同研究を提案します。
A14: 記
A15: 1.形態 | W15: ←リストから選択
A16: 2.研究題目
A18: 3.研究目的及び内容
A22: 4.提案者の主な事業内容 | W22: ←リストから選択
A23: 5.研究期間 | K23: ～ | W23: ←西暦で入力してください（半角）（例：2020年5月5日） 研究開始日を「契約締結日」からとする場合は「契約締結日」入力ください
A24: 6.研究実施場所 | B24: 国立大学法人北海道国立大学機構北見工業大学・
A25: 7.大学における研究に要する経費の負担額 （消費税及び地方消費税を含む） | B25: ①直接経費 | V25: 円
B26: ②間接経費（直接経費の30％に当たる額） | O26: =ROUNDDOWN(O25*0.3,0) -> 0 | V26: 円
B27: ③研究料（共同研究員の派遣ありの場合 440,000円×〇人×〇年） | V27: 円
B28: 合計（①+②+③） | O28: =O25+O26+O27 -> 0 | V28: 円
A29: 8.研究経費の納入方法 | W29: ←リストから選択 （分割の場合は「+」をクリックし行を増やしてください。欄が足りない場合は別表をご用意ください。）
D30: 年度 | E30: 納入額 | M30: 円
E31: 納入期限 | I31: 年 | K31: 月 | M31: 日
D32: 年度 | E32: 納入額 | M32: 円
E33: 納入期限 | I33: 年 | K33: 月 | M33: 日
D34: 年度 | E34: 納入額 | M34: 円
E35: 納入期限 | I35: 年 | K35: 月 | M35: 日
D36: 年度 | E36: 納入額 | M36: 円
E37: 納入期限 | I37: 年 | K37: 月 | M37: 日
A38: 9.請求書の発行方法 | W38: ←リストから選択
A39: 10.大学組織の研究代表者名（*1） | B39: 所属 | C39: 北見工業大学 | K39: 系 | L39: 職 | P39: 氏名 | W39: ←系（機械電気・社会環境・情報通信・応用化学・基礎教育・地域国際）
W40: ←職（教授・准教授・助教）
A41: 【共同研究員の派遣ありの場合】 11.派遣を予定している共同研究員（*2） | B41: 所属 | G41: 職 | K41: 氏名 | P41: 役割
A43: 12.提案者の施設における研究員 | B43: 所属 | G43: 職 | K43: 氏名 | P43: 役割
W44: ←人数を増やす場合は「+」をクリックし行を増やしてください
B45: 所属 | G45: 職 | K45: 氏名 | P45: 役割
B47: 所属 | G47: 職 | K47: 氏名 | P47: 役割
B49: 所属 | G49: 職 | K49: 氏名 | P49: 役割
B51: 所属 | G51: 職 | K51: 氏名 | P51: 役割
...

Sheet (別紙1)共同研究員調書
B1: 共同研究員調書 | Z1: 別紙１
B2: ふりがな | Q2: 生年月日 （年齢） | V2: 年 | X2: 月 | Z2: 日
B3: 氏名
V4: （ | Y4: 歳 | Z4: ）
B5: 現住所 | D5: （〒 | G5: ― | J5: ）
B7: 学歴 （学部相当以降のもの） | D7: 年 月 | J7: 事項
G8: 年 | I8: 月
G9: 年 | I9: 月
G10: 年 | I10: 月
G11: 年 | I11: 月
G12: 年 | I12: 月
B13: 職歴 | D13: 年 月 | J13: 事項
G14: 年 | I14: 月
G15: 年 | I15: 月
G16: 年 | I16: 月
G17: 年 | I17: 月
G18: 年 | I18: 月
B19: 賞罰 | D19: 年 月 | J19: 事項
G20: 年 | I20: 月
G21: 年 | I21: 月
G22: 年 | I22: 月
G23: 年 | I23: 月
G24: 年 | I24: 月
B25: 学会及び社会における活動等
B29: 研究業績
B33: 備考
B36: 〇 | C36: 共同研究員を派遣する場合のみ提出してください。

Sheet 計画書（大学側記載）
AD1: ←西暦で入力してください（半角）（例：2020年5月5日）
A2: 国立大学法人北海道国立大学機構 理事長 殿
A4: 共同研究計画書
S6: 研究代表者
U7: 所属 | V7: 北見工業大学工学部 | Z7: =提案書!H39 -> 0 | AC7: 系
U8: 職名 | Z8: =提案書!M39 -> 0
U9: 氏名 | V9: =提案書!Q39 -> 0
A11: 記
A12: 1.共同研究の概要
A13: 研究題目 | E13: =提案書!B16 -> 0
A15: 研究分野 | AD15: ←リストから選択
A16: 大学における研究代表者名（実施責任者） | E16: 所属 | F16: =Z7 -> 0 | J16: 系 | K16: 職 | L16: =Z8 -> 0 | P16: 氏名 | Q16: =V9 -> 0 | U16: 役割
A18: 大学における 研究担当者 | E18: 所属 | J18: 系 | K18: 職 | P18: 氏名 | U18: 役割 | AB18: 予算登録
AD19: ←一名につき一行 人数を増やす場合は「+」をクリックし行を増やしてください
E20: 所属 | J20: 系 | K20: 職 | P20: 氏名 | U20: 役割 | AB20: 予算登録
E22: 所属 | J22: 系 | K22: 職 | P22: 氏名 | U22: 役割 | AB22: 予算登録
E24: 所属 | J24: 系 | K24: 職 | P24: 氏名 | U24: 役割 | AB24: 予算登録
A27: 2.北見工業大学が供する施設・設備
A28: 本学が所有し、本共同研究の用に供する施設・設備 | E28: 施設の名称 | J28: 設備
J29: 名称 | Q29: 規格 | X29: 数量
A32: 3.企業が負担する研究経費の使用計画、共同研究員費
A33: 令和 | B33: 年度 | C33: 直接経費 | T33: 小計 | V33: 間接経費 | X33: 研究料 （共同研究員の派遣ありの場合） | Z33: 合計
C34: 賃金 | F34: 謝金 | I34: 旅費 | L34: 研究費 | T34: =SUM(C34:S36) -> 0 | Z34: =T34+V34+X34 -> 0
L35: 備品 | O35: 消耗品 | R35: その他
AD36: ←年度を増やす場合は「+」をクリックし行を増やしてください
A38: （2年目以降）
A39: 令和 | B39: 年度 | C39: 直接経費 | T39: 小計 | V39: 間接経費 | X39: 研究料 （共同研究員の派遣ありの場合） | Z39: 合計
C40: 賃金 | F40: 謝金 | I40: 旅費 | L40: 研究費 | T40: =SUM(C40:S42) -> 0 | Z40: =T40+V40+X40 -> 0
L41: 備品 | O41: 消耗品 | R41: その他
A43: 令和 | B43: 年度 | C43: 直接経費 | T43: 小計 | V43: 間接経費 | X43: 研究料 （共同研究員の派遣ありの場合） | Z43: 合計
C44: 賃金 | F44: 謝金 | I44: 旅費 | L44: 研究費 | T44: =SUM(C44:S46) -> 0 | Z44: =T44+V44+X44 -> 0
L45: 備品 | O45: 消耗品 | R45: その他
A47: 令和 | B47: 年度 | C47: 直接経費 | T47: 小計 | V47: 間接経費 | X47: 研究料 （共同研究員の派遣ありの場合） | Z47: 合計
C48: 賃金 | F48: 謝金 | I48: 旅費 | L48: 研究費 | T48: =SUM(C48:S50) -> 0 | Z48: =T48+V48+X48 -> 0
L49: 備品 | O49: 消耗品 | R49: その他
A51: 令和 | B51: 年度 | C51: 直接経費 | T51: 小計 | V51: 間接経費 | X51: 研究料 （共同研究員の派遣ありの場合） | Z51: 合計
C52: 賃金 | F52: 謝金 | I52: 旅費 | L52: 研究費 | T52: =SUM(C52:S54) -> 0 | Z52: =T52+V52+X52 -> 0
L53: 備品 | O53: 消耗品 | R53: その他

Sheet 契約項目表（変更しないでください）
A1: 共 同 研 究 契 約 書（案）
A3: （契約項目表）
A4: 1．甲 | B4: 国立大学法人北海道国立大学機構
A5: 2．乙 | B5: =提案書!O9 -> 0
A6: 3．研究題目 | B6: =提案書!B16 -> 0
A7: 4．研究目的 及び内容 | B7: =提案書!B18 -> 0
A8: 5．研究期間 | D8: =提案書!F23 -> 0 | L8: ～ | M8: =提案書!L23 -> 0 | V8: ←（西暦）
A9: 6．研究担当者 | B9: 区分 | C9: 所属 | H9: 職名 | L9: 氏名 | Q9: 本研究における役割
A10: （注：甲の研究代表者に◎印を付す。甲への派遣を予定している民間等共同研究員に○印を付す。） | B10: 甲 | C10: ◎ | D10: ='計画書（大学側記載）'!F16 -> 0 | G10: 系 | H10: ='計画書（大学側記載）'!L16 -> 0 | L10: ='計画書（大学側記載）'!Q16 -> 0 | Q10: ='計画書（大学側記載）'!V16 -> 0
D11: ='計画書（大学側記載）'!F18 -> 0 | G11: 系 | H11: ='計画書（大学側記載）'!L18 -> 0 | L11: ='計画書（大学側記載）'!Q18 -> 0 | Q11: ='計画書（大学側記載）'!V18 -> 0
D12: ='計画書（大学側記載）'!F20 -> 0 | G12: 系 | H12: ='計画書（大学側記載）'!L20 -> 0 | L12: ='計画書（大学側記載）'!Q20 -> 0 | Q12: ='計画書（大学側記載）'!V20 -> 0
D13: ='計画書（大学側記載）'!F22 -> 0 | G13: 系 | H13: ='計画書（大学側記載）'!L22 -> 0 | L13: ='計画書（大学側記載）'!Q22 -> 0 | Q13: ='計画書（大学側記載）'!V22 -> 0
D14: ='計画書（大学側記載）'!F24 -> 0 | G14: 系 | H14: ='計画書（大学側記載）'!L24 -> 0 | L14: ='計画書（大学側記載）'!Q24 -> 0 | Q14: ='計画書（大学側記載）'!V24 -> 0
D15: ='計画書（大学側記載）'!F26 -> 0 | G15: 系 | H15: ='計画書（大学側記載）'!L21 -> 0 | L15: ='計画書（大学側記載）'!Q21 -> 0 | Q15: ='計画書（大学側記載）'!V21 -> 0
B16: 乙 | D16: =提案書!C43 -> 0 | H16: =提案書!H43 -> 0 | L16: =提案書!L43 -> 0 | Q16: =提案書!Q43 -> 0
D17: =提案書!C45 -> 0 | H17: =提案書!H45 -> 0 | L17: =提案書!L45 -> 0 | Q17: =提案書!Q45 -> 0
D18: =提案書!C47 -> 0 | H18: =提案書!H47 -> 0 | L18: =提案書!L47 -> 0 | Q18: =提案書!Q47 -> 0
D19: =提案書!C49 -> 0 | H19: =提案書!H49 -> 0 | L19: =提案書!L49 -> 0 | Q19: =提案書!Q49 -> 0
D20: =提案書!C51 -> 0 | H20: =提案書!H51 -> 0 | L20: =提案書!L51 -> 0 | Q20: =提案書!Q51 -> 0
D21: =提案書!C53 -> 0 | H21: =提案書!H53 -> 0 | L21: =提案書!L53 -> 0 | Q21: =提案書!Q53 -> 0
C22: ○ | D22: =提案書!C41 -> 0 | H22: =提案書!H41 -> 0 | L22: =提案書!L41 -> 0 | Q22: =提案書!Q41 -> 0
A23: 7．研究実施 場所 | B23: 甲： | D23: 国立大学法人北海道国立大学機構北見工業大学
B24: 乙： | D24: =提案書!K24 -> 0
A25: 8．研究経費の負担額（消費税額及び地方消費税額を含む） | B25: 区分 | J25: 乙
B26: 直接経費 | J26: =提案書!O25 -> 0 | U26: 円
B27: 間接経費 | J27: =提案書!O26 -> 0 | U27: 円
B28: 研究料（共同研究員年間:440,000円/人） | J28: =提案書!O27 -> 0 | U28: 円
B29: 合計 | J29: =J26+J27 -> 0 | U29: 円
A30: 9．施設及び 設備の提供 | B30: 区分 | C30: 施設の名称 | J30: 設 備
J31: 名 称 | O31: 規格 | T31: 数量
B32: 甲 | C32: ='計画書（大学側記載）'!E30 -> 0 | J32: ='計画書（大学側記載）'!J30 -> 0 | O32: ='計画書（大学側記載）'!Q30 -> 0 | T32: ='計画書（大学側記載）'!X30 -> 0
B35: 乙 | C35: =提案書!C56 -> 0 | J35: =提案書!I56 -> 0 | O35: =提案書!N56 -> 0 | T35: =提案書!S56 -> 0
A40: 10.期間関係 | B40: 第１７条関係 | G40: ① 相手方の秘密情報を秘密に保持しなければならない期間
G41: 本共同研究の開始日から終了日までの期間及び、終了日の翌日から起算して３年間
B43: 第１８条関係 | G43: ② 研究成果の公表内容の予告通知期間
G44: 研究成果の公表を行おうとする日（※）の３０日前まで
G45: （※学会での発表の場合は発表要旨の提出日、学術誌への論文掲載の場合は投稿日をいう。）
G46: ③ 研究成果の公表内容の予告通知を受けた当事者が公表内容の修正又は延期を請求することのできる期間
G47: 予告通知を受領した日から１４日間
G48: ④ 研究成果の公表を行う場合に予告通知を行うことが求められる期間
...

Sheet 大学作業用
B2: 2 | C2: 3 | D2: 4 | E2: 5 | F2: 6 | G2: 7 | H2: 8 | I2: 9 | J2: 10 | K2: 11 | L2: 12 | M2: 13 | N2: 14 | O2: 15 | P2: 16 | Q2: 17 | R2: 18 | S2: 19 | T2: 20 | U2: 21 | V2: 22 | W2: 23 | X2: 24 | Y2: 25 | Z2: 26 | AA2: 27 | AB2: 28 | AC2: 29 | AD2: 30 | AE2: 31 | AF2: 32 | AG2: 33 | AH2: 34 | AI2: 35 | AJ2: 36 | AK2: 37 | AL2: 38 | AM2: 39 | AN2: 40 | AO2: 41 | AP2: 42 | AQ2: 43 | AR2: 44 | AS2: 45 | AT2: 46 | AU2: 47 | AV2: 48 | AW2: 49 | AX2: 50 | AY2: 51 | AZ2: 52 | BA2: 53 | BB2: 54 | BC2: 55 | BD2: 56 | BE2: 57 | BF2: 58 | BG2: 59 | BH2: 60 | BI2: 61 | BJ2: 62 | BK2: 63 | BL2: 64 | BM2: 65 | BN2: 66 | BO2: 67 | BP2: 68 | BQ2: 69 | BR2: 70 | BS2: 71 | BT2: 72 | BU2: 73 | BV2: 74
B3: 分野 | C3: 分類 | D3: 業種内訳 | E3: 形態 | F3: 氏 名 | G3: ふりがな | H3: 所 属 | I3: 職 名 | J3: 氏 名1 | K3: 所 属 | L3: 職 名 | M3: 役 割 | N3: 予算登録 | O3: 氏 名2 | P3: 所 属 | Q3: 職 名 | R3: 役 割 | S3: 予算登録 | T3: 氏 名3 | U3: 所 属 | V3: 職 名 | W3: 役 割 | X3: 予算登録 | Y3: 氏 名4 | Z3: 所 属 | AA3: 職 名 | AB3: 役 割 | AC3: 予算登録 | AD3: 氏 名5 | AE3: 所 属 | AF3: 職 名 | AG3: 役 割 | AH3: 予算登録 | AJ3: 機 関 名 | AK3: 住 所 | AL3: 職 名 | AM3: 代表者氏名 | AW3: 人数 | AX3: 金 額 | AY3: 合 計 | BA3: 工大分合計額 | BB3: 開 始 | BC3: 終 了 | BD3: 決裁開始日 | BE3: 受入決定 | BF3: 契約月日 | BG3: 契約書送付（押印依頼） | BH3: 押印契約書受領 | BI3: 請求書発送 （債権発生送付） | BJ3: 納入期限 | BK3: 他大学を含む(ACE案件) | BL3: 報告書提出日 （教員対応） | BM3: 経理関係報告書提出日 （事務対応） | BN3: 備 考
B4: ='[1]計画書（大学側記載）'!E15 -> 0 | C4: 手入力 | D4: =[1]提案書!B22 -> 0 | E4: =[1]提案書!B15 -> 0 | F4: =[1]提案書!Q39 -> 0 | G4: 手入力 | H4: =[1]提案書!H39 -> 0 | I4: =[1]提案書!M39 -> 0 | J4: ='[1]計画書（大学側記載）'!Q18 -> 0 | K4: ='[1]計画書（大学側記載）'!F18 -> 0 | L4: ='[1]計画書（大学側記載）'!L18 -> 0 | M4: ='[1]計画書（大学側記載）'!V18 -> 0 | N4: ='[1]計画書（大学側記載）'!AC18 -> 0 | O4: ='[1]計画書（大学側記載）'!Q20 -> 0 | P4: ='[1]計画書（大学側記載）'!F20 -> 0 | Q4: ='[1]計画書（大学側記載）'!L20 -> 0 | R4: ='[1]計画書（大学側記載）'!V20 -> 0 | S4: ='[1]計画書（大学側記載）'!AC20 -> 0 | T4: ='[1]計画書（大学側記載）'!Q22 -> 0 | U4: ='[1]計画書（大学側記載）'!F22 -> 0 | V4: ='[1]計画書（大学側記載）'!L22 -> 0 | W4: ='[1]計画書（大学側記載）'!V22 -> 0 | X4: ='[1]計画書（大学側記載）'!AC22 -> 0 | Y4: ='[1]計画書（大学側記載）'!Q24 -> 0 | Z4: ='[1]計画書（大学側記載）'!F24 -> 0 | AA4: ='[1]計画書（大学側記載）'!L24 -> 0 | AB4: ='[1]計画書（大学側記載）'!V24 -> 0 | AC4: ='[1]計画書（大学側記載）'!AC24 -> 0 | AI4: =[1]提案書!B16 -> 0 | AJ4: =[1]提案書!O9 -> 0 | AK4: =[1]提案書!N8 -> 0 | AL4: =[1]提案書!O10 -> 0 | AM4: =[1]提案書!O11 -> 0 | AN4: =[1]提案書!N7 -> 0 | AO4: =[1]提案書!P7 -> 0 | AP4: =IF(AN4="","",VALUE(AN4)) -> 0 | AQ4: =[1]提案書!M64 -> 0 | AR4: =[1]提案書!C61 & " " & [1]提案書!L61 | AS4: =[1]提案書!P61 -> 0 | AT4: =IF(AP4="","",IF(AP4<10,"道内",IF(AP4<100,IF(AP4>=90,"オホーツク圏",IF(AP4>=40,"道内")),"道外"))) -> 道内 | AU4: =[1]提案書!O25 -> 0 | AV4: =[1]提案書!O26 -> 0 | AW4: 手入力 | AX4: 手入力 | AY4: =[1]提案書!O27 -> 0 | BA4: =IF(AU4<>"", SUM(AU4,AV4, AZ4), "") -> 0 | BB4: 手入力 | BC4: 手入力 | BD4: 手入力 | BE4: 手入力 | BF4: 手入力 | BG4: 手入力 | BH4: 手入力 | BI4: 手入力 | BJ4: 手入力 | BK4: 手入力 | BL4: 手入力 | BM4: 手入力 | BP4: =[1]提案書!B57 -> 0 | BQ4: 手入力 | BR4: =[1]提案書!B58 -> 0 | BS4: =[1]提案書!B38 -> 0
